BEGIN:VCALENDAR
VERSION:2.0
PRODID:-//moveIT - ECPv6.15.17//NONSGML v1.0//EN
CALSCALE:GREGORIAN
METHOD:PUBLISH
X-WR-CALNAME:moveIT
X-ORIGINAL-URL:https://www.moveit.at
X-WR-CALDESC:Veranstaltungen für moveIT
REFRESH-INTERVAL;VALUE=DURATION:PT1H
X-Robots-Tag:noindex
X-PUBLISHED-TTL:PT1H
BEGIN:VTIMEZONE
TZID:Europe/Vienna
BEGIN:DAYLIGHT
TZOFFSETFROM:+0100
TZOFFSETTO:+0200
TZNAME:CEST
DTSTART:20250330T010000
END:DAYLIGHT
BEGIN:STANDARD
TZOFFSETFROM:+0200
TZOFFSETTO:+0100
TZNAME:CET
DTSTART:20251026T010000
END:STANDARD
BEGIN:DAYLIGHT
TZOFFSETFROM:+0100
TZOFFSETTO:+0200
TZNAME:CEST
DTSTART:20260329T010000
END:DAYLIGHT
BEGIN:STANDARD
TZOFFSETFROM:+0200
TZOFFSETTO:+0100
TZNAME:CET
DTSTART:20261025T010000
END:STANDARD
BEGIN:DAYLIGHT
TZOFFSETFROM:+0100
TZOFFSETTO:+0200
TZNAME:CEST
DTSTART:20270328T010000
END:DAYLIGHT
BEGIN:STANDARD
TZOFFSETFROM:+0200
TZOFFSETTO:+0100
TZNAME:CET
DTSTART:20271031T010000
END:STANDARD
END:VTIMEZONE
BEGIN:VEVENT
DTSTART;TZID=Europe/Vienna:20260428T090000
DTEND;TZID=Europe/Vienna:20260428T110000
DTSTAMP:20260422T170744
CREATED:20241219T134033Z
LAST-MODIFIED:20260210T133716Z
UID:10000069-1777366800-1777374000@www.moveit.at
SUMMARY:Online-Einführung moveIT ISS+ für neue Anwender
DESCRIPTION:die wichtigsten Funktionen erklärt im Echt-System des Kunden\,\n1:1 Schulung\nbeachten Sie die Sonderkonditionen in Verbindung mit einer Lizenz-Bestellung! (muss bei Lizenzbestellung am Bestellblatt aktiviert werden!)\nmehrere Teilnehmer eines Unternehmens möglich (bitte um telefonische Anmeldung bzw. Klärung!)
URL:https://www.moveit.at/event/online-einfuehrung-moveit-iss-fuer-neue-anwender-5/
CATEGORIES:Online Einführung ISS+
ORGANIZER;CN="moveIT Software GmbH":MAILTO:trainings@moveit.at
LOCATION:https://www.moveit.at/event/online-einfuehrung-moveit-iss-fuer-neue-anwender-5/
END:VEVENT
BEGIN:VEVENT
DTSTART;TZID=Europe/Vienna:20260512T083000
DTEND;TZID=Europe/Vienna:20260512T103000
DTSTAMP:20260422T170744
CREATED:20260210T141223Z
LAST-MODIFIED:20260210T141223Z
UID:10000133-1778574600-1778581800@www.moveit.at
SUMMARY:Online-Einführung moveIT ISS+ für neue Anwender
DESCRIPTION:die wichtigsten Funktionen erklärt im Echt-System des Kunden\,\n1:1 Schulung\nbeachten Sie die Sonderkonditionen in Verbindung mit einer Lizenz-Bestellung! (muss bei Lizenzbestellung am Bestellblatt aktiviert werden!)\nmehrere Teilnehmer eines Unternehmens möglich (bitte um telefonische Anmeldung bzw. Klärung!)
URL:https://www.moveit.at/event/online-einfuehrung-moveit-iss-fuer-neue-anwender-9/
CATEGORIES:Online Einführung ISS+
ORGANIZER;CN="moveIT Software GmbH":MAILTO:trainings@moveit.at
LOCATION:https://www.moveit.at/event/online-einfuehrung-moveit-iss-fuer-neue-anwender-9/
END:VEVENT
BEGIN:VEVENT
DTSTART;TZID=Europe/Vienna:20260513T090000
DTEND;TZID=Europe/Vienna:20260513T100000
DTSTAMP:20260422T170744
CREATED:20260210T141511Z
LAST-MODIFIED:20260210T141511Z
UID:10000134-1778662800-1778666400@www.moveit.at
SUMMARY:Mitarbeiterstamm – Online-Perfektionierung
DESCRIPTION:User anlegen\nSachbearbeiter und Vertreter anlegen\nMitarbeiterstamm pflegen\nBenutzerrechte eingrenzen\n\nMindest-Teilnehmerzahl: 3 Anwender
URL:https://www.moveit.at/event/mitarbeiterstamm-online-perfektionierung-3/
CATEGORIES:Online-Perfektionierung
ORGANIZER;CN="moveIT Software GmbH":MAILTO:trainings@moveit.at
LOCATION:https://www.moveit.at/event/mitarbeiterstamm-online-perfektionierung-3/
END:VEVENT
BEGIN:VEVENT
DTSTART;TZID=Europe/Vienna:20260518T140000
DTEND;TZID=Europe/Vienna:20260518T150000
DTSTAMP:20260422T170744
CREATED:20260210T142621Z
LAST-MODIFIED:20260210T142621Z
UID:10000137-1779112800-1779116400@www.moveit.at
SUMMARY:1:1 Online-Perfektionierung - freie Themenwahl
DESCRIPTION:Kunde wählt Thema nach Angebot im Schulungskalender
URL:https://www.moveit.at/event/11-online-perfektionierung-freie-themenwahl/
CATEGORIES:Online-Perfektionierung
ORGANIZER;CN="moveIT Software GmbH":MAILTO:trainings@moveit.at
LOCATION:https://www.moveit.at/event/11-online-perfektionierung-freie-themenwahl/
END:VEVENT
BEGIN:VEVENT
DTSTART;TZID=Europe/Vienna:20260519T090000
DTEND;TZID=Europe/Vienna:20260519T100000
DTSTAMP:20260422T170744
CREATED:20260210T142740Z
LAST-MODIFIED:20260210T142740Z
UID:10000138-1779181200-1779184800@www.moveit.at
SUMMARY:1:1 Online-Perfektionierung - freie Themenwahl
DESCRIPTION:Kunde wählt Thema nach Angebot im Schulungskalender
URL:https://www.moveit.at/event/11-online-perfektionierung-freie-themenwahl-2/
CATEGORIES:Online-Perfektionierung
ORGANIZER;CN="moveIT Software GmbH":MAILTO:trainings@moveit.at
LOCATION:https://www.moveit.at/event/11-online-perfektionierung-freie-themenwahl-2/
END:VEVENT
END:VCALENDAR