BEGIN:VCALENDAR
VERSION:2.0
PRODID:-//moveIT - ECPv6.15.17//NONSGML v1.0//EN
CALSCALE:GREGORIAN
METHOD:PUBLISH
X-ORIGINAL-URL:https://www.moveit.at
X-WR-CALDESC:Veranstaltungen für moveIT
REFRESH-INTERVAL;VALUE=DURATION:PT1H
X-Robots-Tag:noindex
X-PUBLISHED-TTL:PT1H
BEGIN:VTIMEZONE
TZID:Europe/Vienna
BEGIN:DAYLIGHT
TZOFFSETFROM:+0100
TZOFFSETTO:+0200
TZNAME:CEST
DTSTART:20240331T010000
END:DAYLIGHT
BEGIN:STANDARD
TZOFFSETFROM:+0200
TZOFFSETTO:+0100
TZNAME:CET
DTSTART:20241027T010000
END:STANDARD
BEGIN:DAYLIGHT
TZOFFSETFROM:+0100
TZOFFSETTO:+0200
TZNAME:CEST
DTSTART:20250330T010000
END:DAYLIGHT
BEGIN:STANDARD
TZOFFSETFROM:+0200
TZOFFSETTO:+0100
TZNAME:CET
DTSTART:20251026T010000
END:STANDARD
BEGIN:DAYLIGHT
TZOFFSETFROM:+0100
TZOFFSETTO:+0200
TZNAME:CEST
DTSTART:20260329T010000
END:DAYLIGHT
BEGIN:STANDARD
TZOFFSETFROM:+0200
TZOFFSETTO:+0100
TZNAME:CET
DTSTART:20261025T010000
END:STANDARD
BEGIN:DAYLIGHT
TZOFFSETFROM:+0100
TZOFFSETTO:+0200
TZNAME:CEST
DTSTART:20270328T010000
END:DAYLIGHT
BEGIN:STANDARD
TZOFFSETFROM:+0200
TZOFFSETTO:+0100
TZNAME:CET
DTSTART:20271031T010000
END:STANDARD
END:VTIMEZONE
BEGIN:VEVENT
DTSTART;TZID=Europe/Vienna:20260417T090000
DTEND;TZID=Europe/Vienna:20260417T100000
DTSTAMP:20260422T175513
CREATED:20260210T133347Z
LAST-MODIFIED:20260210T133347Z
UID:10000131-1776416400-1776420000@www.moveit.at
SUMMARY:Korrespondenzen und Notizen – Online-Perfektionierung
DESCRIPTION:Bestellhinweise zur Position anlegen\nBestellhinweise zum Beleg anlagen\nMemotexte erstellen: Möglichkeiten zur Nutzung aufzeigen\n\nMindest-Teilnehmerzahl: 3 Anwender
URL:https://www.moveit.at/event/korrespondenzen-und-notizen-online-perfektionierung-5/
CATEGORIES:Online-Perfektionierung
ORGANIZER;CN="moveIT Software GmbH":MAILTO:trainings@moveit.at
LOCATION:https://www.moveit.at/event/korrespondenzen-und-notizen-online-perfektionierung-5/
END:VEVENT
BEGIN:VEVENT
DTSTART;TZID=Europe/Vienna:20260416T090000
DTEND;TZID=Europe/Vienna:20260416T100000
DTSTAMP:20260422T175513
CREATED:20260210T132650Z
LAST-MODIFIED:20260210T132650Z
UID:10000130-1776330000-1776333600@www.moveit.at
SUMMARY:Kalkulation in ISS+ – Online-Perfektionierung
DESCRIPTION:Einkaufskonditionen und -preise\nVerkaufspreis-Kalkulation\nAnwendung von Rabatten\nBerechnung einer Aufschlags- oder Rohgewinnkalkulation\n\nMindest-Teilnehmerzahl: 3 Anwender
URL:https://www.moveit.at/event/kalkulation-in-iss-online-perfektionierung-6/
CATEGORIES:Online-Perfektionierung
ORGANIZER;CN="moveIT Software GmbH":MAILTO:trainings@moveit.at
LOCATION:https://www.moveit.at/event/kalkulation-in-iss-online-perfektionierung-6/
END:VEVENT
BEGIN:VEVENT
DTSTART;TZID=Europe/Vienna:20260413T083000
DTEND;TZID=Europe/Vienna:20260413T093000
DTSTAMP:20260422T175514
CREATED:20260210T125726Z
LAST-MODIFIED:20260210T131638Z
UID:10000124-1776069000-1776072600@www.moveit.at
SUMMARY:Vor- und Nachspanntexte – Online-Perfektionierung
DESCRIPTION:Neue Vor- oder Nachspanntexte anlegen\nvorhandene Textblöcke pflegen\nindividuelle Textblöcke verwenden\n\nMindest-Teilnehmerzahl: 3 Anwender
URL:https://www.moveit.at/event/vor-und-nachspanntexte-online-perfektionierung-4/
CATEGORIES:Online-Perfektionierung
ORGANIZER;CN="moveIT Software GmbH":MAILTO:trainings@moveit.at
LOCATION:https://www.moveit.at/event/vor-und-nachspanntexte-online-perfektionierung-4/
END:VEVENT
BEGIN:VEVENT
DTSTART;TZID=Europe/Vienna:20260403T090000
DTEND;TZID=Europe/Vienna:20260403T100000
DTSTAMP:20260422T175514
CREATED:20260210T125406Z
LAST-MODIFIED:20260210T125406Z
UID:10000123-1775206800-1775210400@www.moveit.at
SUMMARY:Weitere Positionsarten – Online-Perfektionierung
DESCRIPTION:Alternativpositionen erstellen\nPreisdarstellung ändern\nInfopositionen erstellen\nGliederungen\n\nMindest-Teilnehmerzahl: 3 Anwender
URL:https://www.moveit.at/event/weitere-positionsarten-online-perfektionierung-4/
CATEGORIES:Online-Perfektionierung
ORGANIZER;CN="moveIT Software GmbH":MAILTO:trainings@moveit.at
LOCATION:https://www.moveit.at/event/weitere-positionsarten-online-perfektionierung-4/
END:VEVENT
BEGIN:VEVENT
DTSTART;TZID=Europe/Vienna:20260402T090000
DTEND;TZID=Europe/Vienna:20260402T100000
DTSTAMP:20260422T175514
CREATED:20260210T124849Z
LAST-MODIFIED:20260210T124849Z
UID:10000122-1775120400-1775124000@www.moveit.at
SUMMARY:Eigener Warenstamm – Online-Perfektionierung
DESCRIPTION:Eigene Artikel anlegen\nFormeln für m² Berechnung hinterlegen\nEK- und VK- Preisberechnung automatisieren\nManuelle Preiseingabe u.v.m.\n\nMindest-Teilnehmerzahl: 3 Anwender
URL:https://www.moveit.at/event/eigener-warenstamm-online-perfektionierung-3/
CATEGORIES:Online-Perfektionierung
ORGANIZER;CN="moveIT Software GmbH":MAILTO:trainings@moveit.at
LOCATION:https://www.moveit.at/event/eigener-warenstamm-online-perfektionierung-3/
END:VEVENT
BEGIN:VEVENT
DTSTART;TZID=Europe/Vienna:20260312T090000
DTEND;TZID=Europe/Vienna:20260312T100000
DTSTAMP:20260422T175514
CREATED:20260210T124411Z
LAST-MODIFIED:20260210T125033Z
UID:10000121-1773306000-1773309600@www.moveit.at
SUMMARY:Montage- und Zusatzleistungen – Online-Perfektionierung
DESCRIPTION:Montagen und Zusatzleistungen anlegen\,\nPreise hinterlegen\,\nMontage- und Zusatzleistungen berechnen\,\nverschiedene Darstellungsvarianten im Beleg\,\n\nMindest-Teilnehmerzahl: 3 Anwender
URL:https://www.moveit.at/event/montage-und-zusatzleistungen-online-perfektionierung-6/
CATEGORIES:Online-Perfektionierung
ORGANIZER;CN="moveIT Software GmbH":MAILTO:trainings@moveit.at
LOCATION:https://www.moveit.at/event/montage-und-zusatzleistungen-online-perfektionierung-6/
END:VEVENT
BEGIN:VEVENT
DTSTART;TZID=Europe/Vienna:20260311T090000
DTEND;TZID=Europe/Vienna:20260311T100000
DTSTAMP:20260422T175514
CREATED:20260210T124045Z
LAST-MODIFIED:20260210T124045Z
UID:10000120-1773219600-1773223200@www.moveit.at
SUMMARY:Belegkopfdaten pflegen – Online-Perfektionierung
DESCRIPTION:Übersicht vorhandener Felder\,\nFunktionen des Filters\,\nFilter effektiv nutzen\,\n\nMindest-Teilnehmerzahl: 3 Anwender
URL:https://www.moveit.at/event/belegkopfdaten-pflegen-online-perfektionierung-3/
CATEGORIES:Online-Perfektionierung
ORGANIZER;CN="moveIT Software GmbH":MAILTO:trainings@moveit.at
LOCATION:https://www.moveit.at/event/belegkopfdaten-pflegen-online-perfektionierung-3/
END:VEVENT
BEGIN:VEVENT
DTSTART;TZID=Europe/Vienna:20260225T090000
DTEND;TZID=Europe/Vienna:20260225T100000
DTSTAMP:20260422T175514
CREATED:20260210T131251Z
LAST-MODIFIED:20260210T131251Z
UID:10000129-1772010000-1772013600@www.moveit.at
SUMMARY:Weitere Positionsarten – Online-Perfektionierung
DESCRIPTION:Alternativpositionen erstellen\nPreisdarstellung ändern\nInfopositionen erstellen\nGliederungen\n\nMindest-Teilnehmerzahl: 3 Anwender
URL:https://www.moveit.at/event/weitere-positionsarten-online-perfektionierung-5/
CATEGORIES:Online-Perfektionierung
ORGANIZER;CN="moveIT Software GmbH":MAILTO:trainings@moveit.at
LOCATION:https://www.moveit.at/event/weitere-positionsarten-online-perfektionierung-5/
END:VEVENT
BEGIN:VEVENT
DTSTART;TZID=Europe/Vienna:20260218T090000
DTEND;TZID=Europe/Vienna:20260218T100000
DTSTAMP:20260422T175514
CREATED:20260210T130920Z
LAST-MODIFIED:20260210T130920Z
UID:10000127-1771405200-1771408800@www.moveit.at
SUMMARY:Vor- und Nachspanntexte – Online-Perfektionierung
DESCRIPTION:Neue Vor- oder Nachspanntexte anlegen\nvorhandene Textblöcke pflegen\nindividuelle Textblöcke verwenden\n\nMindest-Teilnehmerzahl: 3 Anwender
URL:https://www.moveit.at/event/vor-und-nachspanntexte-online-perfektionierung-5/
CATEGORIES:Online-Perfektionierung
ORGANIZER;CN="moveIT Software GmbH":MAILTO:trainings@moveit.at
LOCATION:https://www.moveit.at/event/vor-und-nachspanntexte-online-perfektionierung-5/
END:VEVENT
BEGIN:VEVENT
DTSTART;TZID=Europe/Vienna:20251113T140000
DTEND;TZID=Europe/Vienna:20251113T150000
DTSTAMP:20260422T175514
CREATED:20250812T081046Z
LAST-MODIFIED:20250812T081046Z
UID:10000116-1763042400-1763046000@www.moveit.at
SUMMARY:Belegkopfdaten pflegen – Online-Perfektionierung
DESCRIPTION:Übersicht vorhandener Felder\,\nFunktionen des Filters\,\nFilter effektiv nutzen\,\n\nMindest-Teilnehmerzahl: 3 Anwender
URL:https://www.moveit.at/event/belegkopfdaten-pflegen-online-perfektionierung/
CATEGORIES:Online-Perfektionierung
ORGANIZER;CN="moveIT Software GmbH":MAILTO:trainings@moveit.at
LOCATION:https://www.moveit.at/event/belegkopfdaten-pflegen-online-perfektionierung/
END:VEVENT
BEGIN:VEVENT
DTSTART;TZID=Europe/Vienna:20251113T083000
DTEND;TZID=Europe/Vienna:20251113T093000
DTSTAMP:20260422T175514
CREATED:20250812T080822Z
LAST-MODIFIED:20250812T080822Z
UID:10000115-1763022600-1763026200@www.moveit.at
SUMMARY:Montage- und Zusatzleistungen – Online-Perfektionierung
DESCRIPTION:Montagen und Zusatzleistungen anlegen\,\nPreise hinterlegen\,\nMontage- und Zusatzleistungen berechnen\,\nverschiedene Darstellungsvarianten im Beleg\,\n\nMindest-Teilnehmerzahl: 3 Anwender
URL:https://www.moveit.at/event/montage-und-zusatzleistungen-online-perfektionierung-5/
CATEGORIES:Online-Perfektionierung
ORGANIZER;CN="moveIT Software GmbH":MAILTO:trainings@moveit.at
LOCATION:https://www.moveit.at/event/montage-und-zusatzleistungen-online-perfektionierung-5/
END:VEVENT
BEGIN:VEVENT
DTSTART;TZID=Europe/Vienna:20251110T083000
DTEND;TZID=Europe/Vienna:20251110T093000
DTSTAMP:20260422T175514
CREATED:20250812T080157Z
LAST-MODIFIED:20250812T080431Z
UID:10000114-1762763400-1762767000@www.moveit.at
SUMMARY:Eigener Warenstamm – Online-Perfektionierung
DESCRIPTION:Eigene Artikel anlegen\nFormeln für m² Berechnung hinterlegen\nEK- und VK- Preisberechnung automatisieren\nManuelle Preiseingabe u.v.m.\n\nMindest-Teilnehmerzahl: 3 Anwender
URL:https://www.moveit.at/event/eigener-warenstamm-online-perfektionierung-2/
CATEGORIES:Online-Perfektionierung
ORGANIZER;CN="moveIT Software GmbH":MAILTO:trainings@moveit.at
LOCATION:https://www.moveit.at/event/eigener-warenstamm-online-perfektionierung-2/
END:VEVENT
BEGIN:VEVENT
DTSTART;TZID=Europe/Vienna:20251030T090000
DTEND;TZID=Europe/Vienna:20251030T120000
DTSTAMP:20260422T175514
CREATED:20250812T074420Z
LAST-MODIFIED:20251017T065603Z
UID:10000112-1761814800-1761825600@www.moveit.at
SUMMARY:Online-Grundschulung 1:1 für moveIT ISS+ - Teil 2 (von2)
DESCRIPTION:Einzel-Coaching für perfekte Abstimmung des Inhalts auf die Anforderungen des Anwenders\nalle Detailinformationen finden Sie im „Teil 1“
URL:https://www.moveit.at/event/online-grundschulung-11-fuer-moveit-iss-teil-2-2/
CATEGORIES:Online Grundschulung 1:1
ORGANIZER;CN="moveIT Software GmbH":MAILTO:trainings@moveit.at
LOCATION:https://www.moveit.at/event/online-grundschulung-11-fuer-moveit-iss-teil-2-2/
END:VEVENT
BEGIN:VEVENT
DTSTART;TZID=Europe/Vienna:20251029T090000
DTEND;TZID=Europe/Vienna:20251029T120000
DTSTAMP:20260422T175514
CREATED:20250812T074053Z
LAST-MODIFIED:20251017T065046Z
UID:10000110-1761728400-1761739200@www.moveit.at
SUMMARY:Online-Grundschulung 1:1 für moveIT ISS+ - Teil 1 (von 2)
DESCRIPTION:Einzel-Coaching für perfekte Abstimmung des Inhalts auf die Anforderungen des Anwenders\,\n2 x 3 Stunden\, zzgl. 1 Stunde Nachbetreuung (innerhalb von 6 Monaten)\nOnline-Anmeldung bei „Teil 1“ erforderlich
URL:https://www.moveit.at/event/online-grundschulung-11-fuer-moveit-iss-tag-1-4/
CATEGORIES:Online Grundschulung 1:1
ORGANIZER;CN="moveIT Software GmbH":MAILTO:trainings@moveit.at
LOCATION:https://www.moveit.at/event/online-grundschulung-11-fuer-moveit-iss-tag-1-4/
END:VEVENT
BEGIN:VEVENT
DTSTART;TZID=Europe/Vienna:20251027T140000
DTEND;TZID=Europe/Vienna:20251027T150000
DTSTAMP:20260422T175514
CREATED:20250812T073727Z
LAST-MODIFIED:20250812T073727Z
UID:10000109-1761573600-1761577200@www.moveit.at
SUMMARY:Weitere Positionsarten – Online-Perfektionierung
DESCRIPTION:Alternativpositionen erstellen\nPreisdarstellung ändern\nInfopositionen erstellen\nGliederungen\n\nMindest-Teilnehmerzahl: 3 Anwender
URL:https://www.moveit.at/event/weitere-positionsarten-online-perfektionierung-2/
CATEGORIES:Online-Perfektionierung
ORGANIZER;CN="moveIT Software GmbH":MAILTO:trainings@moveit.at
LOCATION:https://www.moveit.at/event/weitere-positionsarten-online-perfektionierung-2/
END:VEVENT
BEGIN:VEVENT
DTSTART;TZID=Europe/Vienna:20251027T083000
DTEND;TZID=Europe/Vienna:20251027T093000
DTSTAMP:20260422T175514
CREATED:20250812T073444Z
LAST-MODIFIED:20250812T073444Z
UID:10000108-1761553800-1761557400@www.moveit.at
SUMMARY:Vor- und Nachspanntexte – Online-Perfektionierung
DESCRIPTION:Neue Vor- oder Nachspanntexte anlegen\nvorhandene Textblöcke pflegen\nindividuelle Textblöcke verwenden\n\nMindest-Teilnehmerzahl: 3 Anwender
URL:https://www.moveit.at/event/vor-und-nachspanntexte-online-perfektionierung-3/
CATEGORIES:Online-Perfektionierung
ORGANIZER;CN="moveIT Software GmbH":MAILTO:trainings@moveit.at
LOCATION:https://www.moveit.at/event/vor-und-nachspanntexte-online-perfektionierung-3/
END:VEVENT
BEGIN:VEVENT
DTSTART;TZID=Europe/Vienna:20250925T090000
DTEND;TZID=Europe/Vienna:20250925T100000
DTSTAMP:20260422T175514
CREATED:20250812T124107Z
LAST-MODIFIED:20250812T124107Z
UID:10000119-1758790800-1758794400@www.moveit.at
SUMMARY:Belegkopfdaten pflegen – Online-Perfektionierung
DESCRIPTION:Übersicht vorhandener Felder\,\nFunktionen des Filters\,\nFilter effektiv nutzen\,\n\nMindest-Teilnehmerzahl: 3 Anwender
URL:https://www.moveit.at/event/belegkopfdaten-pflegen-online-perfektionierung-2/
CATEGORIES:Online-Perfektionierung
ORGANIZER;CN="moveIT Software GmbH":MAILTO:trainings@moveit.at
LOCATION:https://www.moveit.at/event/belegkopfdaten-pflegen-online-perfektionierung-2/
END:VEVENT
BEGIN:VEVENT
DTSTART;TZID=Europe/Vienna:20250924T083000
DTEND;TZID=Europe/Vienna:20250924T103000
DTSTAMP:20260422T175514
CREATED:20250812T123401Z
LAST-MODIFIED:20250812T123401Z
UID:10000118-1758702600-1758709800@www.moveit.at
SUMMARY:Online-Einführung moveIT ISS+ für neue Anwender
DESCRIPTION:die wichtigsten Funktionen erklärt im Echt-System des Kunden\,\n1:1 Schulung\nbeachten Sie die Sonderkonditionen in Verbindung mit einer Lizenz-Bestellung! (muss bei Lizenzbestellung am Bestellblatt aktiviert werden!)\nmehrere Teilnehmer eines Unternehmens möglich (bitte um telefonische Anmeldung bzw. Klärung!)
URL:https://www.moveit.at/event/online-einfuehrung-moveit-iss-fuer-neue-anwender-8/
CATEGORIES:Online Einführung ISS+
ORGANIZER;CN="moveIT Software GmbH":MAILTO:trainings@moveit.at
LOCATION:https://www.moveit.at/event/online-einfuehrung-moveit-iss-fuer-neue-anwender-8/
END:VEVENT
BEGIN:VEVENT
DTSTART;TZID=Europe/Vienna:20250922T090000
DTEND;TZID=Europe/Vienna:20250922T100000
DTSTAMP:20260422T175514
CREATED:20250812T092002Z
LAST-MODIFIED:20250812T092002Z
UID:10000117-1758531600-1758535200@www.moveit.at
SUMMARY:Weitere Positionsarten – Online-Perfektionierung
DESCRIPTION:Alternativpositionen erstellen\nPreisdarstellung ändern\nInfopositionen erstellen\nGliederungen\n\nMindest-Teilnehmerzahl: 3 Anwender
URL:https://www.moveit.at/event/weitere-positionsarten-online-perfektionierung-3/
CATEGORIES:Online-Perfektionierung
ORGANIZER;CN="moveIT Software GmbH":MAILTO:trainings@moveit.at
LOCATION:https://www.moveit.at/event/weitere-positionsarten-online-perfektionierung-3/
END:VEVENT
BEGIN:VEVENT
DTSTART;TZID=Europe/Vienna:20250905T090000
DTEND;TZID=Europe/Vienna:20250905T100000
DTSTAMP:20260422T175514
CREATED:20250806T082440Z
LAST-MODIFIED:20250806T082440Z
UID:10000105-1757062800-1757066400@www.moveit.at
SUMMARY:Kalkulation in ISS+ – Online-Perfektionierung
DESCRIPTION:Einkaufskonditionen und -preise\nVerkaufspreis-Kalkulation\nAnwendung von Rabatten\nBerechnung einer Aufschlags- oder Rohgewinnkalkulation\n\nMindest-Teilnehmerzahl: 3 Anwender
URL:https://www.moveit.at/event/kalkulation-in-iss-online-perfektionierung-5/
CATEGORIES:Online-Perfektionierung
ORGANIZER;CN="moveIT Software GmbH":MAILTO:trainings@moveit.at
LOCATION:https://www.moveit.at/event/kalkulation-in-iss-online-perfektionierung-5/
END:VEVENT
BEGIN:VEVENT
DTSTART;TZID=Europe/Vienna:20250901T093000
DTEND;TZID=Europe/Vienna:20250901T103000
DTSTAMP:20260422T175514
CREATED:20250806T074412Z
LAST-MODIFIED:20250806T074943Z
UID:10000104-1756719000-1756722600@www.moveit.at
SUMMARY:Korrespondenzen und Notizen – Online-Perfektionierung
DESCRIPTION:Bestellhinweise zur Position anlegen\nBestellhinweise zum Beleg anlagen\nMemotexte erstellen: Möglichkeiten zur Nutzung aufzeigen\n\nMindest-Teilnehmerzahl: 3 Anwender
URL:https://www.moveit.at/event/korrespondenzen-und-notizen-online-perfektionierung-4/
CATEGORIES:Online-Perfektionierung
ORGANIZER;CN="moveIT Software GmbH":MAILTO:trainings@moveit.at
LOCATION:https://www.moveit.at/event/korrespondenzen-und-notizen-online-perfektionierung-4/
END:VEVENT
BEGIN:VEVENT
DTSTART;TZID=Europe/Vienna:20250901T080000
DTEND;TZID=Europe/Vienna:20250901T090000
DTSTAMP:20260422T175514
CREATED:20250806T063311Z
LAST-MODIFIED:20250806T063556Z
UID:10000100-1756713600-1756717200@www.moveit.at
SUMMARY:Montage- und Zusatzleistungen – Online-Perfektionierung
DESCRIPTION:Montagen und Zusatzleistungen anlegen\nPreise hinterlegen\nMontage- und Zusatzleistungen berechnen\nverschiedene Darstellungsvarianten im Beleg\n\nMindest-Teilnehmerzahl: 3 Anwender
URL:https://www.moveit.at/event/montage-und-zusatzleistungen-online-perfektionierung-4/
CATEGORIES:Online-Perfektionierung
ORGANIZER;CN="moveIT Software GmbH":MAILTO:trainings@moveit.at
LOCATION:https://www.moveit.at/event/montage-und-zusatzleistungen-online-perfektionierung-4/
END:VEVENT
BEGIN:VEVENT
DTSTART;TZID=Europe/Vienna:20250507T090000
DTEND;TZID=Europe/Vienna:20250508T160000
DTSTAMP:20260422T175514
CREATED:20240913T092724Z
LAST-MODIFIED:20250411T073016Z
UID:10000009-1746608400-1746720000@www.moveit.at
SUMMARY:Grundschulung moveIT ISS+
DESCRIPTION:Präsenz-Schulung in Wels\, \nMindest-Teilnehmerzahl: 3 Anwender
URL:https://www.moveit.at/event/grundschulung-8/
LOCATION:moveIT Software GmbH\, Durisolstraße 7\, Wels\, Oberösterreich\, 4600
CATEGORIES:Offene Grundschulung
ORGANIZER;CN="moveIT Software GmbH":MAILTO:trainings@moveit.at
END:VEVENT
BEGIN:VEVENT
DTSTART;TZID=Europe/Vienna:20250425T080000
DTEND;TZID=Europe/Vienna:20250425T100000
DTSTAMP:20260422T175514
CREATED:20250416T083106Z
LAST-MODIFIED:20250422T075118Z
UID:10000078-1745568000-1745575200@www.moveit.at
SUMMARY:Online-Einführung moveIT ISS+ für neue Anwender
DESCRIPTION:die wichtigsten Funktionen erklärt im Echt-System des Kunden\,\n1:1 Schulung\nbeachten Sie die Sonderkonditionen in Verbindung mit einer Lizenz-Bestellung! (muss bei Lizenzbestellung am Bestellblatt aktiviert werden!)\nmehrere Teilnehmer eines Unternehmens möglich (bitte um telefonische Anmeldung bzw. Klärung!)
URL:https://www.moveit.at/event/online-einfuehrung-moveit-iss-fuer-neue-anwender-7/
CATEGORIES:Online Einführung ISS+
ORGANIZER;CN="moveIT Software GmbH":MAILTO:trainings@moveit.at
LOCATION:https://www.moveit.at/event/online-einfuehrung-moveit-iss-fuer-neue-anwender-7/
END:VEVENT
BEGIN:VEVENT
DTSTART;TZID=Europe/Vienna:20250423T090000
DTEND;TZID=Europe/Vienna:20250423T110000
DTSTAMP:20260422T175514
CREATED:20250416T082427Z
LAST-MODIFIED:20250416T082427Z
UID:10000075-1745398800-1745406000@www.moveit.at
SUMMARY:Online-Grundschulung 1:1 für moveIT ISS+ - Teil 2
DESCRIPTION:Einzel-Coaching für perfekte Abstimmung des Inhalts auf die Anforderungen des Anwenders\,\n3 x 2 Stunden an 3 Folgetagen\,\nNachcoaching bei Bedarf von bis zu 15 min. je Teilnehmer am 4. Tag (nach Vereinbarung)\,\nOnline-Anmeldung am ersten Schulungstag möglich\, keine Anmeldung für einzelne Tage möglich
URL:https://www.moveit.at/event/online-grundschulung-11-fuer-moveit-iss-teil-2/
CATEGORIES:Online Grundschulung 1:1
ORGANIZER;CN="moveIT Software GmbH":MAILTO:trainings@moveit.at
LOCATION:https://www.moveit.at/event/online-grundschulung-11-fuer-moveit-iss-teil-2/
END:VEVENT
BEGIN:VEVENT
DTSTART;TZID=Europe/Vienna:20250422T130000
DTEND;TZID=Europe/Vienna:20250422T150000
DTSTAMP:20260422T175514
CREATED:20250416T082849Z
LAST-MODIFIED:20250416T082849Z
UID:10000077-1745326800-1745334000@www.moveit.at
SUMMARY:Online-Einführung moveIT ISS+ für neue Anwender
DESCRIPTION:die wichtigsten Funktionen erklärt im Echt-System des Kunden\,\n1:1 Schulung\nbeachten Sie die Sonderkonditionen in Verbindung mit einer Lizenz-Bestellung! (muss bei Lizenzbestellung am Bestellblatt aktiviert werden!)\nmehrere Teilnehmer eines Unternehmens möglich (bitte um telefonische Anmeldung bzw. Klärung!)
URL:https://www.moveit.at/event/online-einfuehrung-moveit-iss-fuer-neue-anwender-6/
CATEGORIES:Online Einführung ISS+
ORGANIZER;CN="moveIT Software GmbH":MAILTO:trainings@moveit.at
LOCATION:https://www.moveit.at/event/online-einfuehrung-moveit-iss-fuer-neue-anwender-6/
END:VEVENT
BEGIN:VEVENT
DTSTART;TZID=Europe/Vienna:20250422T090000
DTEND;TZID=Europe/Vienna:20250422T110000
DTSTAMP:20260422T175514
CREATED:20250416T082225Z
LAST-MODIFIED:20250416T082225Z
UID:10000074-1745312400-1745319600@www.moveit.at
SUMMARY:Online-Grundschulung 1:1 für moveIT ISS+ - Teil 1
DESCRIPTION:Einzel-Coaching für perfekte Abstimmung des Inhalts auf die Anforderungen des Anwenders\,\n3 x 2 Stunden an 3 Folgetagen\,\nNachcoaching bei Bedarf von bis zu 15 min. je Teilnehmer am 4. Tag (nach Vereinbarung)\,\nOnline-Anmeldung am ersten Schulungstag möglich\, keine Anmeldung für einzelne Tage möglich
URL:https://www.moveit.at/event/online-grundschulung-11-fuer-moveit-iss-teil-1/
CATEGORIES:Online Grundschulung 1:1
ORGANIZER;CN="moveIT Software GmbH":MAILTO:trainings@moveit.at
LOCATION:https://www.moveit.at/event/online-grundschulung-11-fuer-moveit-iss-teil-1/
END:VEVENT
BEGIN:VEVENT
DTSTART;TZID=Europe/Vienna:20250408T090000
DTEND;TZID=Europe/Vienna:20250409T160000
DTSTAMP:20260422T175514
CREATED:20240913T092308Z
LAST-MODIFIED:20250213T125755Z
UID:10000008-1744102800-1744214400@www.moveit.at
SUMMARY:Grundschulung moveIT ISS+
DESCRIPTION:Präsenz-Schulung in Wels\, \nMindest-Teilnehmerzahl: 3 Teilnehmer
URL:https://www.moveit.at/event/grundschulung-7/
LOCATION:moveIT Software GmbH\, Durisolstraße 7\, Wels\, Oberösterreich\, 4600
CATEGORIES:Offene Grundschulung
ORGANIZER;CN="moveIT Software GmbH":MAILTO:trainings@moveit.at
END:VEVENT
BEGIN:VEVENT
DTSTART;TZID=Europe/Vienna:20250324T130000
DTEND;TZID=Europe/Vienna:20250324T140000
DTSTAMP:20260422T175514
CREATED:20250314T073720Z
LAST-MODIFIED:20250314T073720Z
UID:10000073-1742821200-1742824800@www.moveit.at
SUMMARY:Korrespondenzen und Notizen – Online-Perfektionierung
DESCRIPTION:Bestellhinweise zur Position anlegen\nBestellhinweise zum Beleg anlagen\nMemotexte erstellen: Möglichkeiten zur Nutzung aufzeigen\n\nMindest-Teilnehmerzahl: 3 Anwender
URL:https://www.moveit.at/event/korrespondenzen-und-notizen-online-perfektionierung-3/
CATEGORIES:Online-Perfektionierung
ORGANIZER;CN="moveIT Software GmbH":MAILTO:trainings@moveit.at
LOCATION:https://www.moveit.at/event/korrespondenzen-und-notizen-online-perfektionierung-3/
END:VEVENT
BEGIN:VEVENT
DTSTART;TZID=Europe/Vienna:20250324T100000
DTEND;TZID=Europe/Vienna:20250324T110000
DTSTAMP:20260422T175514
CREATED:20250314T073455Z
LAST-MODIFIED:20250314T073455Z
UID:10000072-1742810400-1742814000@www.moveit.at
SUMMARY:Montage- und Zusatzleistungen – Online-Perfektionierung
DESCRIPTION:Montagen und Zusatzleistungen anlegen\nPreise hinterlegen\nMontage- und Zusatzleistungen berechnen\nverschiedene Darstellungsvarianten im Beleg\n\nMindest-Teilnehmerzahl: 3 Anwender
URL:https://www.moveit.at/event/montage-und-zusatzleistungen-online-perfektionierung-3/
CATEGORIES:Online-Perfektionierung
ORGANIZER;CN="moveIT Software GmbH":MAILTO:trainings@moveit.at
LOCATION:https://www.moveit.at/event/montage-und-zusatzleistungen-online-perfektionierung-3/
END:VEVENT
END:VCALENDAR